BEGIN:VCALENDAR
VERSION:2.0
PRODID:-//L&#039;ISLE-EN-DODON - ECPv5.9.1//NONSGML v1.0//EN
CALSCALE:GREGORIAN
METHOD:PUBLISH
X-WR-CALNAME:L&#039;ISLE-EN-DODON
X-ORIGINAL-URL:https://www.lisleendodon.com
X-WR-CALDESC:évènements pour L&#039;ISLE-EN-DODON
BEGIN:VTIMEZONE
TZID:Europe/Paris
BEGIN:DAYLIGHT
TZOFFSETFROM:+0100
TZOFFSETTO:+0200
TZNAME:CEST
DTSTART:20260329T010000
END:DAYLIGHT
BEGIN:STANDARD
TZOFFSETFROM:+0200
TZOFFSETTO:+0100
TZNAME:CET
DTSTART:20261025T010000
END:STANDARD
END:VTIMEZONE
BEGIN:VEVENT
DTSTART;TZID=Europe/Paris:20260509T203000
DTEND;TZID=Europe/Paris:20260509T203000
DTSTAMP:20260421T201609
CREATED:20260421T120058Z
LAST-MODIFIED:20260421T120058Z
UID:17823-1778358600-1778358600@www.lisleendodon.com
SUMMARY:Soirée karaoké
DESCRIPTION:
URL:https://www.lisleendodon.com/event/soiree-karaoke/
LOCATION:Halle de la Mairie\, Place du Château\, L'Isle-en-Dodon\, 31230
CATEGORIES:Associations,LEFIL,Soirée
END:VEVENT
END:VCALENDAR