BEGIN:VCALENDAR
VERSION:2.0
PRODID:-//L&#039;ISLE-EN-DODON - ECPv5.9.1//NONSGML v1.0//EN
CALSCALE:GREGORIAN
METHOD:PUBLISH
X-WR-CALNAME:L&#039;ISLE-EN-DODON
X-ORIGINAL-URL:https://www.lisleendodon.com
X-WR-CALDESC:évènements pour L&#039;ISLE-EN-DODON
BEGIN:VTIMEZONE
TZID:Europe/Paris
BEGIN:DAYLIGHT
TZOFFSETFROM:+0100
TZOFFSETTO:+0200
TZNAME:CEST
DTSTART:20190331T010000
END:DAYLIGHT
BEGIN:STANDARD
TZOFFSETFROM:+0200
TZOFFSETTO:+0100
TZNAME:CET
DTSTART:20191027T010000
END:STANDARD
END:VTIMEZONE
BEGIN:VEVENT
DTSTART;TZID=Europe/Paris:20190621T210000
DTEND;TZID=Europe/Paris:20190621T233000
DTSTAMP:20260425T005127
CREATED:20190613T074319Z
LAST-MODIFIED:20190613T074319Z
UID:6990-1561150800-1561159800@www.lisleendodon.com
SUMMARY:> Sibyl
DESCRIPTION:Bande – annonce\nDate de sortie : 24 mai 2019\nDurée : 1 h 40 min\nRéalisateur : Justine Triet\nAvec : Virginie Efira\, Adèle Exarchopoulos\, Gaspard Ulliel\nGenres : Drame\, Comédie\nNationalité : Français\, Belge\n\nSynopsis et détails : \nAvertissement : des scènes\, des propos ou des images peuvent heurter la sensibilité des spectateurs\n\nSibyl est une romancière reconvertie en psychanalyste. Rattrapée par le désir d’écrire\, elle décide de quitter la plupart de ses patients. Alors qu’elle cherche l’inspiration\, Margot\, une jeune actrice en détresse\, la supplie de la recevoir. En plein tournage\, elle est enceinte de l’acteur principal… qui est en couple avec la réalisatrice du film. Tandis qu’elle lui expose son dilemme passionnel\, Sibyl\, fascinée\, l’enregistre secrètement. La parole de sa patiente nourrit son roman et la replonge dans le tourbillon de son passé. Quand Margot implore Sibyl de la rejoindre à Stromboli pour la fin du tournage\, tout s’accélère à une allure vertigineuse…
URL:https://www.lisleendodon.com/event/sibyl/
LOCATION:Cinéma\, Bd des Martyrs de Meilhan\, L'Isle-en-Dodon\, Midi-Pyrénées\, 31230\, France
CATEGORIES:Cinéma
ORGANIZER;CN="Culture%20et%20Cin%C3%A9ma":MAILTO:cinema-lisleendodon@orange.fr
END:VEVENT
END:VCALENDAR