BEGIN:VCALENDAR
VERSION:2.0
PRODID:-//L&#039;ISLE-EN-DODON - ECPv5.9.1//NONSGML v1.0//EN
CALSCALE:GREGORIAN
METHOD:PUBLISH
X-WR-CALNAME:L&#039;ISLE-EN-DODON
X-ORIGINAL-URL:https://www.lisleendodon.com
X-WR-CALDESC:évènements pour L&#039;ISLE-EN-DODON
BEGIN:VTIMEZONE
TZID:Europe/Paris
BEGIN:DAYLIGHT
TZOFFSETFROM:+0100
TZOFFSETTO:+0200
TZNAME:CEST
DTSTART:20240331T010000
END:DAYLIGHT
BEGIN:STANDARD
TZOFFSETFROM:+0200
TZOFFSETTO:+0100
TZNAME:CET
DTSTART:20241027T010000
END:STANDARD
END:VTIMEZONE
BEGIN:VEVENT
DTSTART;TZID=Europe/Paris:20241208T120000
DTEND;TZID=Europe/Paris:20241208T170000
DTSTAMP:20260424T100410
CREATED:20241205T131718Z
LAST-MODIFIED:20241205T131718Z
UID:15237-1733659200-1733677200@www.lisleendodon.com
SUMMARY:Rugby : USL / US Vallée du Lot
DESCRIPTION:
URL:https://www.lisleendodon.com/event/rugby-usl-us-vallee-du-lot/
LOCATION:Stade Marius Campguilhem\, 56B Avenue des Martiagues\, L'ISLE-EN-DODON\, 31230\, France
CATEGORIES:Associations,Repas,Rugby,Sport
END:VEVENT
END:VCALENDAR