BEGIN:VCALENDAR
VERSION:2.0
PRODID:-//L&#039;ISLE-EN-DODON - ECPv5.9.1//NONSGML v1.0//EN
CALSCALE:GREGORIAN
METHOD:PUBLISH
X-WR-CALNAME:L&#039;ISLE-EN-DODON
X-ORIGINAL-URL:https://www.lisleendodon.com
X-WR-CALDESC:évènements pour L&#039;ISLE-EN-DODON
BEGIN:VTIMEZONE
TZID:Europe/Paris
BEGIN:DAYLIGHT
TZOFFSETFROM:+0100
TZOFFSETTO:+0200
TZNAME:CEST
DTSTART:20250330T010000
END:DAYLIGHT
BEGIN:STANDARD
TZOFFSETFROM:+0200
TZOFFSETTO:+0100
TZNAME:CET
DTSTART:20251026T010000
END:STANDARD
END:VTIMEZONE
BEGIN:VEVENT
DTSTART;TZID=Europe/Paris:20250906T173000
DTEND;TZID=Europe/Paris:20250906T210000
DTSTAMP:20260425T022446
CREATED:20250902T144840Z
LAST-MODIFIED:20250902T144840Z
UID:16534-1757179800-1757192400@www.lisleendodon.com
SUMMARY:Rugby match amical : USL / Verfeil
DESCRIPTION:
URL:https://www.lisleendodon.com/event/rugby-match-amical-usl-verfeil/
LOCATION:Stade Marius Campguilhem\, 56B Avenue des Martiagues\, L'ISLE-EN-DODON\, 31230\, France
CATEGORIES:Associations,Rugby,Sport
END:VEVENT
END:VCALENDAR