BEGIN:VCALENDAR
VERSION:2.0
PRODID:-//L&#039;ISLE-EN-DODON - ECPv5.9.1//NONSGML v1.0//EN
CALSCALE:GREGORIAN
METHOD:PUBLISH
X-WR-CALNAME:L&#039;ISLE-EN-DODON
X-ORIGINAL-URL:https://www.lisleendodon.com
X-WR-CALDESC:évènements pour L&#039;ISLE-EN-DODON
BEGIN:VTIMEZONE
TZID:Europe/Paris
BEGIN:DAYLIGHT
TZOFFSETFROM:+0100
TZOFFSETTO:+0200
TZNAME:CEST
DTSTART:20260329T010000
END:DAYLIGHT
BEGIN:STANDARD
TZOFFSETFROM:+0200
TZOFFSETTO:+0100
TZNAME:CET
DTSTART:20261025T010000
END:STANDARD
END:VTIMEZONE
BEGIN:VEVENT
DTSTART;TZID=Europe/Paris:20260416T203000
DTEND;TZID=Europe/Paris:20260416T203000
DTSTAMP:20260421T183138
CREATED:20260410T094435Z
LAST-MODIFIED:20260410T094435Z
UID:17810-1776371400-1776371400@www.lisleendodon.com
SUMMARY:Rencontre ville verte et cinéma : le cycle de la vie
DESCRIPTION:
URL:https://www.lisleendodon.com/event/rencontre-ville-verte-et-cinema-le-cycle-de-la-vie/
LOCATION:Cinéma\, Bd des Martyrs de Meilhan\, L'Isle-en-Dodon\, Midi-Pyrénées\, 31230\, France
CATEGORIES:Associations,Ciné-débat,Cinéma,Conférence,Culture,Culture et cinéma,Ville verte
ORGANIZER;CN="Culture%20et%20Cin%C3%A9ma":MAILTO:cinema-lisleendodon@orange.fr
END:VEVENT
END:VCALENDAR