BEGIN:VCALENDAR
VERSION:2.0
PRODID:-//L&#039;ISLE-EN-DODON - ECPv5.9.1//NONSGML v1.0//EN
CALSCALE:GREGORIAN
METHOD:PUBLISH
X-WR-CALNAME:L&#039;ISLE-EN-DODON
X-ORIGINAL-URL:https://www.lisleendodon.com
X-WR-CALDESC:évènements pour L&#039;ISLE-EN-DODON
BEGIN:VTIMEZONE
TZID:Europe/Paris
BEGIN:DAYLIGHT
TZOFFSETFROM:+0100
TZOFFSETTO:+0200
TZNAME:CEST
DTSTART:20240331T010000
END:DAYLIGHT
BEGIN:STANDARD
TZOFFSETFROM:+0200
TZOFFSETTO:+0100
TZNAME:CET
DTSTART:20241027T010000
END:STANDARD
END:VTIMEZONE
BEGIN:VEVENT
DTSTART;TZID=Europe/Paris:20241128T140000
DTEND;TZID=Europe/Paris:20241128T200000
DTSTAMP:20260422T183553
CREATED:20241122T082215Z
LAST-MODIFIED:20241122T082215Z
UID:15149-1732802400-1732824000@www.lisleendodon.com
SUMMARY:Habitat inclusif
DESCRIPTION:
URL:https://www.lisleendodon.com/event/habitat-inclusif/
LOCATION:Maison de la Save\, Rue Marcadieu
CATEGORIES:Mairie de L'Isle-en-Dodon
ORGANIZER;CN="Mairie%20de%20L%27Isle-en-Dodon":MAILTO:mairie@mairie-lisleendodon.fR
END:VEVENT
END:VCALENDAR