BEGIN:VCALENDAR
VERSION:2.0
PRODID:-//L&#039;ISLE-EN-DODON - ECPv5.9.1//NONSGML v1.0//EN
CALSCALE:GREGORIAN
METHOD:PUBLISH
X-WR-CALNAME:L&#039;ISLE-EN-DODON
X-ORIGINAL-URL:https://www.lisleendodon.com
X-WR-CALDESC:évènements pour L&#039;ISLE-EN-DODON
BEGIN:VTIMEZONE
TZID:Europe/Paris
BEGIN:DAYLIGHT
TZOFFSETFROM:+0100
TZOFFSETTO:+0200
TZNAME:CEST
DTSTART:20190331T010000
END:DAYLIGHT
BEGIN:STANDARD
TZOFFSETFROM:+0200
TZOFFSETTO:+0100
TZNAME:CET
DTSTART:20191027T010000
END:STANDARD
END:VTIMEZONE
BEGIN:VEVENT
DTSTART;TZID=Europe/Paris:20190621T210000
DTEND;TZID=Europe/Paris:20190621T233000
DTSTAMP:20260425T024851
CREATED:20190611T132309Z
LAST-MODIFIED:20190611T132309Z
UID:6971-1561150800-1561159800@www.lisleendodon.com
SUMMARY:> Gala de Roller Artistique
DESCRIPTION:
URL:https://www.lisleendodon.com/event/gala-de-roller-artistique/
LOCATION:Salle Poylvalente\, Le Plech\, L'Isle-en-Dodon\, Haute-Garonne\, 31230\, France
CATEGORIES:Spectacle,Sport
END:VEVENT
END:VCALENDAR