BEGIN:VCALENDAR
VERSION:2.0
PRODID:-//L&#039;ISLE-EN-DODON - ECPv5.9.1//NONSGML v1.0//EN
CALSCALE:GREGORIAN
METHOD:PUBLISH
X-WR-CALNAME:L&#039;ISLE-EN-DODON
X-ORIGINAL-URL:https://www.lisleendodon.com
X-WR-CALDESC:évènements pour L&#039;ISLE-EN-DODON
BEGIN:VTIMEZONE
TZID:Europe/Paris
BEGIN:DAYLIGHT
TZOFFSETFROM:+0100
TZOFFSETTO:+0200
TZNAME:CEST
DTSTART:20260329T010000
END:DAYLIGHT
BEGIN:STANDARD
TZOFFSETFROM:+0200
TZOFFSETTO:+0100
TZNAME:CET
DTSTART:20261025T010000
END:STANDARD
END:VTIMEZONE
BEGIN:VEVENT
DTSTART;TZID=Europe/Paris:20260428T203000
DTEND;TZID=Europe/Paris:20260428T203000
DTSTAMP:20260421T182958
CREATED:20260409T134908Z
LAST-MODIFIED:20260409T134908Z
UID:17774-1777408200-1777408200@www.lisleendodon.com
SUMMARY:Film Victor comme tout le monde
DESCRIPTION:Bande – annonce\nDate de sortie : 11 mars 2026\nDurée : 1 h 28 min\nRéalisateur : Pascal Bonitzer \nAvec : Fabrice Luchini\, Chiara Mastroianni\, Marie Narbonne \nGenres : Comédie dramatique \nSynopsis et détails : \n\n\nHabité par Victor Hugo\, le comédien Robert Zucchini traîne une douce mélancolie lorsqu’il n’est pas sur scène. Chaque soir\, il remplit les salles en transmettant son amour des mots. Jusqu’au jour où réapparaît sa fille\, qu’il n’a pas vue grandir… Et si aimer\, pour une fois\, valait mieux qu’admirer ?
URL:https://www.lisleendodon.com/event/film-victor-comme-tout-le-monde/
LOCATION:Cinéma\, Bd des Martyrs de Meilhan\, L'Isle-en-Dodon\, Midi-Pyrénées\, 31230\, France
CATEGORIES:Associations,Cinéma,Culture,Culture et cinéma
ORGANIZER;CN="Culture%20et%20Cin%C3%A9ma":MAILTO:cinema-lisleendodon@orange.fr
END:VEVENT
END:VCALENDAR