BEGIN:VCALENDAR
VERSION:2.0
PRODID:-//L&#039;ISLE-EN-DODON - ECPv5.9.1//NONSGML v1.0//EN
CALSCALE:GREGORIAN
METHOD:PUBLISH
X-WR-CALNAME:L&#039;ISLE-EN-DODON
X-ORIGINAL-URL:https://www.lisleendodon.com
X-WR-CALDESC:évènements pour L&#039;ISLE-EN-DODON
BEGIN:VTIMEZONE
TZID:Europe/Paris
BEGIN:DAYLIGHT
TZOFFSETFROM:+0100
TZOFFSETTO:+0200
TZNAME:CEST
DTSTART:20230326T010000
END:DAYLIGHT
BEGIN:STANDARD
TZOFFSETFROM:+0200
TZOFFSETTO:+0100
TZNAME:CET
DTSTART:20231029T010000
END:STANDARD
END:VTIMEZONE
BEGIN:VEVENT
DTSTART;TZID=Europe/Paris:20230407T203000
DTEND;TZID=Europe/Paris:20230407T203000
DTSTAMP:20260423T142045
CREATED:20230328T073800Z
LAST-MODIFIED:20230328T073800Z
UID:12163-1680899400-1680899400@www.lisleendodon.com
SUMMARY:Film The Fabelmans
DESCRIPTION:Bande – annonce\nDate de sortie : 22 février 2023\nDurée : 2 h 31 min\nRéalisateur : Steven Spielberg\nAvec : Gabriel LaBelle\, Michelle Williams\, Paul Dano\nGenres : Drame\, Biopic \nSynopsis et détails : \nPortrait profondément intime d’une enfance américaine au XXème siècle\, The Fabelmans de Steven Spielberg nous plonge dans l’histoire familiale du cinéaste qui a façonné sa vie personnelle et professionnelle. À partir du récit initiatique d’un jeune homme solitaire qui aspire à réaliser ses rêves\, le film explore les relations amoureuses\, l’ambition artistique\, le sacrifice et les moments de lucidité qui nous permettent d’avoir un regard sincère et tendre sur nous-mêmes et nos parents. \nPassionné de cinéma\, Sammy Fabelman passe son temps à filmer sa famille. S’il est encouragé dans cette voie par sa mère Mitzi\, dotée d’un tempérament artistique\, son père Burt\, scientifique accompli\, considère que sa passion est surtout un passe-temps. Au fil des années\, Sammy\, à force de pointer sa caméra sur ses parents et ses sœurs\, est devenu le documentariste de l’histoire familiale ! Il réalise même de petits films amateurs de plus en plus sophistiqués\, interprétés par ses amis et ses sœurs. Mais lorsque ses parents décident de déménager dans l’ouest du pays\, il découvre une réalité bouleversante sur sa mère qui bouscule ses rapports avec elle et fait basculer son avenir et celui de ses proches.
URL:https://www.lisleendodon.com/event/film-the-fabelmans/
LOCATION:Cinéma\, Bd des Martyrs de Meilhan\, L'Isle-en-Dodon\, Midi-Pyrénées\, 31230\, France
CATEGORIES:Associations,Cinéma,Culture
ORGANIZER;CN="Culture%20et%20Cin%C3%A9ma":MAILTO:cinema-lisleendodon@orange.fr
END:VEVENT
END:VCALENDAR