BEGIN:VCALENDAR
VERSION:2.0
PRODID:-//L&#039;ISLE-EN-DODON - ECPv5.9.1//NONSGML v1.0//EN
CALSCALE:GREGORIAN
METHOD:PUBLISH
X-WR-CALNAME:L&#039;ISLE-EN-DODON
X-ORIGINAL-URL:https://www.lisleendodon.com
X-WR-CALDESC:évènements pour L&#039;ISLE-EN-DODON
BEGIN:VTIMEZONE
TZID:Europe/Paris
BEGIN:DAYLIGHT
TZOFFSETFROM:+0100
TZOFFSETTO:+0200
TZNAME:CEST
DTSTART:20250330T010000
END:DAYLIGHT
BEGIN:STANDARD
TZOFFSETFROM:+0200
TZOFFSETTO:+0100
TZNAME:CET
DTSTART:20251026T010000
END:STANDARD
END:VTIMEZONE
BEGIN:VEVENT
DTSTART;TZID=Europe/Paris:20251011T203000
DTEND;TZID=Europe/Paris:20251011T203000
DTSTAMP:20260422T083943
CREATED:20250930T124844Z
LAST-MODIFIED:20250930T124844Z
UID:16752-1760214600-1760214600@www.lisleendodon.com
SUMMARY:Film Superman
DESCRIPTION:Bande – annonce\nDate de sortie : 9 juillet 2025\nDurée : 2 h 09 min\nRéalisateur : James Gunn \nAvec : David Corenswet\, Rachel Brosnahan\, Nathan Fillion \nGenres : Action\, Aventure\, Science Fiction \nSynopsis et détails : \n\n\n\n\n\n\n\n\n\n\n\n\n\n\n\n\n\n\n\n\n\n\n\n\n\n\n\n\n\n\n\n\n\n\n\n\n\n\n\n\n\n\n\n\n\n\n\n\n\n\n\nSuperman se retrouve impliqué dans des conflits aux quatre coins de la planète et ses interventions en faveur de l’humanité commencent à susciter le doute. Percevant sa vulnérabilité\, Lex Luthor\, milliardaire de la tech et manipulateur de génie\, en profite pour tenter de se débarrasser définitivement de Superman. Lois Lane\, l’intrépide journaliste du Daily Planet\, pourra-t-elle\, avec le soutien des autres méta-humains de Metropolis et le fidèle compagnon à quatre pattes de Superman\, empêcher Luthor de mener à bien son redoutable plan ?
URL:https://www.lisleendodon.com/event/film-superman/
LOCATION:Cinéma\, Bd des Martyrs de Meilhan\, L'Isle-en-Dodon\, Midi-Pyrénées\, 31230\, France
CATEGORIES:Associations,Cinéma,Culture,Culture et cinéma
ORGANIZER;CN="Culture%20et%20Cin%C3%A9ma":MAILTO:cinema-lisleendodon@orange.fr
END:VEVENT
END:VCALENDAR