BEGIN:VCALENDAR
VERSION:2.0
PRODID:-//L&#039;ISLE-EN-DODON - ECPv5.9.1//NONSGML v1.0//EN
CALSCALE:GREGORIAN
METHOD:PUBLISH
X-WR-CALNAME:L&#039;ISLE-EN-DODON
X-ORIGINAL-URL:https://www.lisleendodon.com
X-WR-CALDESC:évènements pour L&#039;ISLE-EN-DODON
BEGIN:VTIMEZONE
TZID:Europe/Paris
BEGIN:DAYLIGHT
TZOFFSETFROM:+0100
TZOFFSETTO:+0200
TZNAME:CEST
DTSTART:20260329T010000
END:DAYLIGHT
BEGIN:STANDARD
TZOFFSETFROM:+0200
TZOFFSETTO:+0100
TZNAME:CET
DTSTART:20261025T010000
END:STANDARD
END:VTIMEZONE
BEGIN:VEVENT
DTSTART;TZID=Europe/Paris:20260418T203000
DTEND;TZID=Europe/Paris:20260418T203000
DTSTAMP:20260421T182433
CREATED:20260409T141002Z
LAST-MODIFIED:20260409T141002Z
UID:17786-1776544200-1776544200@www.lisleendodon.com
SUMMARY:Film Scott Pilgrim
DESCRIPTION:Bande – annonce\nDate de sortie : 1 décembre 2010\nDurée : 1 h 52 min\nRéalisateur : Edgar Wright \nAvec : Michael Cera\, Mary Elizabeth Winstead\, Jason Schwartzman \nGenres : Aventure\, Comédie\, Fantastique \nSynopsis et détails : \n\n\n\n\nScott Pilgrim n’a jamais eu de problème à trouver une petite amie\, mais s’en débarrasser s’avère plus compliqué. Entre celle qui lui a brisé le cœur – et qui est de retour en ville – et l’adolescente qui lui sert de distraction au moment où Ramona entre dans sa vie – en rollers – l’amour n’a jamais été chose facile. Il va cependant vite réaliser que le nouvel objet de son affection traîne les plus singulières casseroles jamais rencontrées : une infâme ligue d’ex qui contrôlent sa vie amoureuse et sont prêts à tout pour éliminer son nouveau prétendant. À mesure que Scott se rapproche de Ramona\, il est confronté à une palette grandissante d’individus patibulaires qui peuplent le passé de sa dulcinée : du mesquin skateur à la rock star végétarienne en passant par une affreuse paire de jumeaux. Et s’il espère séduire l’amour de sa vie\, il doit triompher de chacun d’eux avant que la partie soit bel et bien « over ».
URL:https://www.lisleendodon.com/event/film-scott-pilgrim/
LOCATION:Cinéma\, Bd des Martyrs de Meilhan\, L'Isle-en-Dodon\, Midi-Pyrénées\, 31230\, France
CATEGORIES:Associations,Cinéma,Culture,Culture et cinéma
ORGANIZER;CN="Culture%20et%20Cin%C3%A9ma":MAILTO:cinema-lisleendodon@orange.fr
END:VEVENT
END:VCALENDAR