BEGIN:VCALENDAR
VERSION:2.0
PRODID:-//L&#039;ISLE-EN-DODON - ECPv5.9.1//NONSGML v1.0//EN
CALSCALE:GREGORIAN
METHOD:PUBLISH
X-WR-CALNAME:L&#039;ISLE-EN-DODON
X-ORIGINAL-URL:https://www.lisleendodon.com
X-WR-CALDESC:évènements pour L&#039;ISLE-EN-DODON
BEGIN:VTIMEZONE
TZID:Europe/Paris
BEGIN:DAYLIGHT
TZOFFSETFROM:+0100
TZOFFSETTO:+0200
TZNAME:CEST
DTSTART:20240331T010000
END:DAYLIGHT
BEGIN:STANDARD
TZOFFSETFROM:+0200
TZOFFSETTO:+0100
TZNAME:CET
DTSTART:20241027T010000
END:STANDARD
END:VTIMEZONE
BEGIN:VEVENT
DTSTART;TZID=Europe/Paris:20240718T200000
DTEND;TZID=Europe/Paris:20240718T200000
DTSTAMP:20260423T133036
CREATED:20240626T081518Z
LAST-MODIFIED:20240626T081518Z
UID:14511-1721332800-1721332800@www.lisleendodon.com
SUMMARY:Film Marie Line et son juge à Goudex
DESCRIPTION:
URL:https://www.lisleendodon.com/event/film-marie-line-et-son-juge-a-goudex/
LOCATION:Goudex\, Goudex\, 31230\, France
CATEGORIES:Associations,Cinéma,Culture
ORGANIZER;CN="Culture%20et%20Cin%C3%A9ma":MAILTO:cinema-lisleendodon@orange.fr
END:VEVENT
END:VCALENDAR