BEGIN:VCALENDAR
VERSION:2.0
PRODID:-//L&#039;ISLE-EN-DODON - ECPv5.9.1//NONSGML v1.0//EN
CALSCALE:GREGORIAN
METHOD:PUBLISH
X-WR-CALNAME:L&#039;ISLE-EN-DODON
X-ORIGINAL-URL:https://www.lisleendodon.com
X-WR-CALDESC:évènements pour L&#039;ISLE-EN-DODON
BEGIN:VTIMEZONE
TZID:Europe/Paris
BEGIN:DAYLIGHT
TZOFFSETFROM:+0100
TZOFFSETTO:+0200
TZNAME:CEST
DTSTART:20200329T010000
END:DAYLIGHT
BEGIN:STANDARD
TZOFFSETFROM:+0200
TZOFFSETTO:+0100
TZNAME:CET
DTSTART:20201025T010000
END:STANDARD
END:VTIMEZONE
BEGIN:VEVENT
DTSTART;TZID=Europe/Paris:20201022T210000
DTEND;TZID=Europe/Paris:20201022T230000
DTSTAMP:20260421T205537
CREATED:20201009T083031Z
LAST-MODIFIED:20201009T083031Z
UID:8245-1603400400-1603407600@www.lisleendodon.com
SUMMARY:Film Les apparences
DESCRIPTION:Bande-annonce\nDate de sortie : 23 septembre 2020\nDurée : 1 h 50 min\nRéalisateur : Marc Fitoussi\nAvec : Karin Viard\, Benjamin Biolay\, Lucas Englander\nGenres : Thriller\nNationalité : Français\, Belge\n\nSynopsis et détails : Librement adapté du roman Trahie de Karin Alvtegen \nVienne\, ses palais impériaux\, son Danube bleu et… sa microscopique communauté française. Jeune couple en vue\, Ève et Henri\, parents d’un petit Malo\, ont tout pour être heureux. Lui est le chef d’orchestre de l’Opéra\, elle travaille à l’Institut français. Une vie apparemment sans fausse note\, jusqu’au jour où Henri succombe au charme de l’institutrice de leur fils.
URL:https://www.lisleendodon.com/event/film-les-apparences/
LOCATION:Cinéma\, Bd des Martyrs de Meilhan\, L'Isle-en-Dodon\, Midi-Pyrénées\, 31230\, France
CATEGORIES:Cinéma
ORGANIZER;CN="Culture%20et%20Cin%C3%A9ma":MAILTO:cinema-lisleendodon@orange.fr
END:VEVENT
END:VCALENDAR