BEGIN:VCALENDAR
VERSION:2.0
PRODID:-//L&#039;ISLE-EN-DODON - ECPv5.9.1//NONSGML v1.0//EN
CALSCALE:GREGORIAN
METHOD:PUBLISH
X-WR-CALNAME:L&#039;ISLE-EN-DODON
X-ORIGINAL-URL:https://www.lisleendodon.com
X-WR-CALDESC:évènements pour L&#039;ISLE-EN-DODON
BEGIN:VTIMEZONE
TZID:Europe/Paris
BEGIN:DAYLIGHT
TZOFFSETFROM:+0100
TZOFFSETTO:+0200
TZNAME:CEST
DTSTART:20260329T010000
END:DAYLIGHT
BEGIN:STANDARD
TZOFFSETFROM:+0200
TZOFFSETTO:+0100
TZNAME:CET
DTSTART:20261025T010000
END:STANDARD
END:VTIMEZONE
BEGIN:VEVENT
DTSTART;TZID=Europe/Paris:20260414T203000
DTEND;TZID=Europe/Paris:20260414T203000
DTSTAMP:20260421T182828
CREATED:20260409T135916Z
LAST-MODIFIED:20260409T135916Z
UID:17780-1776198600-1776198600@www.lisleendodon.com
SUMMARY:Film Le Son des souvenirs
DESCRIPTION:Bande – annonce\nDate de sortie : 25 février 2026\nDurée : 2 h 09 min\nRéalisateur : Oliver Hermanus \nAvec : Josh O’Connor\, Paul Mescal\, Chris Cooper \nGenres : Drame\, Historique\, Romance \nSynopsis et détails : \n\n\nLionel\, jeune chanteur talentueux originaire du Kentucky\, grandit au son des chansons que son père chantait sur le perron de leur maison. \nEn 1917\, il quitte la ferme familiale pour intégrer le Conservatoire de Boston\, où il fait la rencontre de David\, un étudiant en composition aussi brillant que séduisant\, mais leur lien naissant est brutalement interrompu lorsque David est mobilisé à la fin de la guerre. \nEn 1920\, réunis le temps d’un hiver\, Lionel et David sillonnent les forêts et les îles du Maine pour collecter et préserver les chants folkloriques menacés d’oubli. Cette parenthèse marquera à jamais Lionel. \nAu cours des décennies suivantes\, Lionel connaît la reconnaissance\, la réussite\, et d’autres histoires d’amour au fil de ses voyages à travers l’Europe. Mais ses souvenirs avec David le hantent encore\, jusqu’au jour où une trace de leur œuvre commune ressurgit et lui révèle combien cette relation a résonné plus fort que toutes les autres..
URL:https://www.lisleendodon.com/event/film-le-son-des-souvenirs/
LOCATION:Cinéma\, Bd des Martyrs de Meilhan\, L'Isle-en-Dodon\, Midi-Pyrénées\, 31230\, France
CATEGORIES:Associations,Cinéma,Culture,Culture et cinéma
ORGANIZER;CN="Culture%20et%20Cin%C3%A9ma":MAILTO:cinema-lisleendodon@orange.fr
END:VEVENT
END:VCALENDAR