BEGIN:VCALENDAR
VERSION:2.0
PRODID:-//L&#039;ISLE-EN-DODON - ECPv5.9.1//NONSGML v1.0//EN
CALSCALE:GREGORIAN
METHOD:PUBLISH
X-WR-CALNAME:L&#039;ISLE-EN-DODON
X-ORIGINAL-URL:https://www.lisleendodon.com
X-WR-CALDESC:évènements pour L&#039;ISLE-EN-DODON
BEGIN:VTIMEZONE
TZID:Europe/Paris
BEGIN:DAYLIGHT
TZOFFSETFROM:+0100
TZOFFSETTO:+0200
TZNAME:CEST
DTSTART:20250330T010000
END:DAYLIGHT
BEGIN:STANDARD
TZOFFSETFROM:+0200
TZOFFSETTO:+0100
TZNAME:CET
DTSTART:20251026T010000
END:STANDARD
END:VTIMEZONE
BEGIN:VEVENT
DTSTART;TZID=Europe/Paris:20251212T203000
DTEND;TZID=Europe/Paris:20251212T203000
DTSTAMP:20260425T003503
CREATED:20251127T140918Z
LAST-MODIFIED:20251127T140918Z
UID:17254-1765571400-1765571400@www.lisleendodon.com
SUMMARY:Film : La Bonne étoile
DESCRIPTION:Bande – annonce\nDate de sortie : 12 novembre 2025\nDurée : 1 h 40 min\nRéalisateur : Pascal Elbé \nAvec : Benoît Poelvoorde\, Pascal Elbé\, Audrey Lamy \nGenres : Comédie dramatique \nSynopsis et détails : \n\n\n\n\n\n\n\n\n\n\n\n\n\n\n\n\n\n\n\n\n\n\n\n\n\n\n\n\n\n\n\n\n\n\n\n\n\n\n\n\n\n\n\n\n\n\n\n\n\n\n\n\n\n\n\n\n\n\n\n\n\nFrance 1940\, Jean Chevalin et sa famille vivent dans la misère après que ce dernier a jugé bon de… déserter ! La situation n’est plus tenable. Convaincu que « certains » s’en sortent mieux\, Chevalin a une brillante idée : se faire passer pour juifs afin de bénéficier de l’aide des passeurs pour accéder à la zone libre. De malentendus en révélations\, il va entrainer sa famille dans ce grand périple qui déconstruira ses préjugés un à un…
URL:https://www.lisleendodon.com/event/film-la-bonne-etoile/
LOCATION:Cinéma\, Bd des Martyrs de Meilhan\, L'Isle-en-Dodon\, Midi-Pyrénées\, 31230\, France
CATEGORIES:Associations,Cinéma,Culture,Culture et cinéma
ORGANIZER;CN="Culture%20et%20Cin%C3%A9ma":MAILTO:cinema-lisleendodon@orange.fr
END:VEVENT
END:VCALENDAR