BEGIN:VCALENDAR
VERSION:2.0
PRODID:-//L&#039;ISLE-EN-DODON - ECPv5.9.1//NONSGML v1.0//EN
CALSCALE:GREGORIAN
METHOD:PUBLISH
X-WR-CALNAME:L&#039;ISLE-EN-DODON
X-ORIGINAL-URL:https://www.lisleendodon.com
X-WR-CALDESC:évènements pour L&#039;ISLE-EN-DODON
BEGIN:VTIMEZONE
TZID:Europe/Paris
BEGIN:DAYLIGHT
TZOFFSETFROM:+0100
TZOFFSETTO:+0200
TZNAME:CEST
DTSTART:20260329T010000
END:DAYLIGHT
BEGIN:STANDARD
TZOFFSETFROM:+0200
TZOFFSETTO:+0100
TZNAME:CET
DTSTART:20261025T010000
END:STANDARD
END:VTIMEZONE
BEGIN:VEVENT
DTSTART;TZID=Europe/Paris:20260421T203000
DTEND;TZID=Europe/Paris:20260421T203000
DTSTAMP:20260421T144844
CREATED:20260409T142102Z
LAST-MODIFIED:20260409T142102Z
UID:17792-1776803400-1776803400@www.lisleendodon.com
SUMMARY:Film Aucun autre choix (VOST)
DESCRIPTION:Bande – annonce\nDate de sortie : 11 février 2026\nDurée : 2 h 19 min\nRéalisateur : Park Chan-Wook \nAvec : Lee Byung-Hun\, Ye-jin Son\, Park Hee-Soon \nGenres : Comédie\, Drame\, Thriller \nSynopsis et détails : \n\n\nInterdit – 12 ans \n\n\n\nCadre dans une usine de papier You Man-su est un homme heureux\, il aime sa femme\, ses enfants\, ses chiens\, sa maison. Lorsqu’il est licencié\, sa vie bascule\, il ne supporte pas l’idée de perdre son statut social et la vie qui va avec. Pour retrouver son bonheur perdu\, il n’a aucun autre choix que d’éliminer tous ses concurrents…
URL:https://www.lisleendodon.com/event/film-aucun-autre-choix-vost/
LOCATION:Cinéma\, Bd des Martyrs de Meilhan\, L'Isle-en-Dodon\, Midi-Pyrénées\, 31230\, France
CATEGORIES:Associations,Cinéma,Culture,Culture et cinéma
ORGANIZER;CN="Culture%20et%20Cin%C3%A9ma":MAILTO:cinema-lisleendodon@orange.fr
END:VEVENT
END:VCALENDAR