BEGIN:VCALENDAR
VERSION:2.0
PRODID:-//L&#039;ISLE-EN-DODON - ECPv5.9.1//NONSGML v1.0//EN
CALSCALE:GREGORIAN
METHOD:PUBLISH
X-WR-CALNAME:L&#039;ISLE-EN-DODON
X-ORIGINAL-URL:https://www.lisleendodon.com
X-WR-CALDESC:évènements pour L&#039;ISLE-EN-DODON
BEGIN:VTIMEZONE
TZID:Europe/Paris
BEGIN:DAYLIGHT
TZOFFSETFROM:+0100
TZOFFSETTO:+0200
TZNAME:CEST
DTSTART:20230326T010000
END:DAYLIGHT
BEGIN:STANDARD
TZOFFSETFROM:+0200
TZOFFSETTO:+0100
TZNAME:CET
DTSTART:20231029T010000
END:STANDARD
END:VTIMEZONE
BEGIN:VEVENT
DTSTART;TZID=Europe/Paris:20230513T203000
DTEND;TZID=Europe/Paris:20230513T203000
DTSTAMP:20260425T210442
CREATED:20230427T144814Z
LAST-MODIFIED:20230427T144814Z
UID:12366-1684009800-1684009800@www.lisleendodon.com
SUMMARY:Concert Jane for Tea
DESCRIPTION:Concert Jane for Tea le samedi 13 mai à 20h30 slle du cinéma. \n15 € adulte / gratuit pour les moins de 12 ans / 10€ pour les étudiants et demandeurs d’emploi.
URL:https://www.lisleendodon.com/event/concert-jane-for-tea-2/
LOCATION:Cinéma\, Bd des Martyrs de Meilhan\, L'Isle-en-Dodon\, Midi-Pyrénées\, 31230\, France
CATEGORIES:Associations,Concert,Musique,Soirée,Spectacle
ORGANIZER;CN="Culture%20et%20Cin%C3%A9ma":MAILTO:cinema-lisleendodon@orange.fr
END:VEVENT
END:VCALENDAR