BEGIN:VCALENDAR
VERSION:2.0
PRODID:-//L&#039;ISLE-EN-DODON - ECPv5.9.1//NONSGML v1.0//EN
CALSCALE:GREGORIAN
METHOD:PUBLISH
X-WR-CALNAME:L&#039;ISLE-EN-DODON
X-ORIGINAL-URL:https://www.lisleendodon.com
X-WR-CALDESC:évènements pour L&#039;ISLE-EN-DODON
BEGIN:VTIMEZONE
TZID:Europe/Paris
BEGIN:DAYLIGHT
TZOFFSETFROM:+0100
TZOFFSETTO:+0200
TZNAME:CEST
DTSTART:20250330T010000
END:DAYLIGHT
BEGIN:STANDARD
TZOFFSETFROM:+0200
TZOFFSETTO:+0100
TZNAME:CET
DTSTART:20251026T010000
END:STANDARD
END:VTIMEZONE
BEGIN:VEVENT
DTSTART;TZID=Europe/Paris:20250712T200000
DTEND;TZID=Europe/Paris:20250712T200000
DTSTAMP:20260423T074021
CREATED:20250701T120941Z
LAST-MODIFIED:20250701T120941Z
UID:16168-1752350400-1752350400@www.lisleendodon.com
SUMMARY:Cinéma dans les coteaux 2025 : En fanfare à L'Isle-en-Dodon
DESCRIPTION:Bande – annonce\nDate de sortie : 27 novembre 2024\nDurée : 1 h 44 min\nRéalisateur : Emmanuel Courcol\nAvec : Benjamin Lavernhe\, Pierre Lottin\, Sarah Suco\nGenres : Comédie\, Comédie dramatique\, Drame \nSynopsis et détails : \n\n\n\nThibaut est un chef d’orchestre de renommée internationale qui parcourt le monde. Lorsqu’il apprend qu’il a été adopté\, il découvre l’existence d’un frère\, Jimmy\, employé de cantine scolaire et qui joue du trombone dans une fanfare du nord de la France. En apparence tout les sépare\, sauf l’amour de la musique. Détectant les capacités musicales exceptionnelles de son frère\, Thibaut se donne pour mission de réparer l’injustice du destin. Jimmy se prend alors à rêver d’une autre vie… \n\n\n\n\n\n\nTarifs et horaires : \nMenu : Salade césar\, rôti de porc/bœuf\, tarte \nRéservation : 06 08 18 13 45 / 06 76 55 15 02 \nRepas : Moins de 5 ans gratuit / Entre 5 et 10 ans 5€ / Plus de 10 ans 13€ \nLe repas est à 20h\, pensez à apporter vos couverts. La réservation des repas se fait auprès de chaque commune. \nSéance : Plein tarif 6€ / Tarif réduit 5€ / Moins de 18 ans 3€ / Carnet de 5 séances non-nominatif 25€. \nLes séances démarrent à la tombée de la nuit\, vers 22h
URL:https://www.lisleendodon.com/event/cinema-dans-les-coteaux-2025-en-fanfare-a-lisle-en-dodon/
LOCATION:Piscine municipale\, L'Isle-en-Dodon\, 31230\, France
CATEGORIES:Associations,Cinéma,Cinéma dans les coteaux 2025,Culture
ORGANIZER;CN="Culture%20et%20Cin%C3%A9ma":MAILTO:cinema-lisleendodon@orange.fr
END:VEVENT
END:VCALENDAR