BEGIN:VCALENDAR
VERSION:2.0
PRODID:-//L&#039;ISLE-EN-DODON - ECPv5.9.1//NONSGML v1.0//EN
CALSCALE:GREGORIAN
METHOD:PUBLISH
X-WR-CALNAME:L&#039;ISLE-EN-DODON
X-ORIGINAL-URL:https://www.lisleendodon.com
X-WR-CALDESC:évènements pour L&#039;ISLE-EN-DODON
BEGIN:VTIMEZONE
TZID:Europe/Paris
BEGIN:DAYLIGHT
TZOFFSETFROM:+0100
TZOFFSETTO:+0200
TZNAME:CEST
DTSTART:20250330T010000
END:DAYLIGHT
BEGIN:STANDARD
TZOFFSETFROM:+0200
TZOFFSETTO:+0100
TZNAME:CET
DTSTART:20251026T010000
END:STANDARD
END:VTIMEZONE
BEGIN:VEVENT
DTSTART;TZID=Europe/Paris:20250731T200000
DTEND;TZID=Europe/Paris:20250731T200000
DTSTAMP:20260422T100159
CREATED:20250701T135302Z
LAST-MODIFIED:20250701T135302Z
UID:16220-1753992000-1753992000@www.lisleendodon.com
SUMMARY:Cinéma dans les coteaux 2025 : C'est le monde à l'envers à Lilhac
DESCRIPTION:Bande – annonce\nDate de sortie : 16 octobre 2024\nDurée : 1 h 54 min\nRéalisateur : Nicolas Vanier\nAvec : Michaël Youn\, Barbara Schulz\, Eric Elmosnino\nGenres : Comédie\, Drame \nSynopsis et détails : \n\n\n\n\n\nC’est la crise\, tout s’arrête : plus d’eau\, plus d’électricité\, plus de réseau… Stanislas\, homme d’affaire parisien\, perd tout y compris sa fortune. Lui qui déteste la campagne est contraint de partir se réfugier avec sa femme et son fils dans une des exploitations agricoles qu’il avait acquise dans un but spéculatif. Mais à son arrivée\, il se retrouve face à Patrick et sa famille\, agriculteurs exploitants des lieux\, qui n’ont pas l’intention de quitter la ferme… Dans cette atmosphère chaotique où tout est inversé\, nos deux familles que tout oppose parviendront-elles à cohabiter pour survivre et peut-être reconstruire ensemble un nouveau monde ? \n\n\n\n\n\n\n\n\nTarifs et horaires : \nMenu : Paëlla \nRéservation : 06 08 86 68 31 \nRepas : Moins de 5 ans gratuit / Entre 5 et 10 ans 5€ / Plus de 10 ans 13€ \nLe repas est à 20h\, pensez à apporter vos couverts. La réservation des repas se fait auprès de chaque commune. \nSéance : Plein tarif 6€ / Tarif réduit 5€ / Moins de 18 ans 3€ / Carnet de 5 séances non-nominatif 25€. \nLes séances démarrent à la tombée de la nuit\, vers 22h
URL:https://www.lisleendodon.com/event/cinema-dans-les-coteaux-2025-cest-le-monde-a-lenvers-a-lilhac/
LOCATION:Lilhac\, Lilhac\, 31230\, France
CATEGORIES:Associations,Cinéma,Cinéma dans les coteaux 2025,Culture,Culture et cinéma
ORGANIZER;CN="Culture%20et%20Cin%C3%A9ma":MAILTO:cinema-lisleendodon@orange.fr
END:VEVENT
END:VCALENDAR